BEGIN:VCALENDAR
VERSION:2.0
PRODID:-//ChamberMaster//Event Calendar 2.0//EN
METHOD:PUBLISH
X-PUBLISHED-TTL:P3D
REFRESH-INTERVAL:P3D
CALSCALE:GREGORIAN
BEGIN:VEVENT
DTSTART;VALUE=DATE:20200918
DTEND;VALUE=DATE:20200922
TRANSP:TRANSPARENT
X-MICROSOFT-CDO-ALLDAYEVENT:TRUE
SUMMARY:Run for Recovery
DESCRIPTION:Southside Behavioral Health invites you to the Run for Recovery\, a virtual 5k run/walk supporting their mission to help support those struggling with addiction and recovery.
X-ALT-DESC;FMTTYPE=text/html:Southside Behavioral Health invites you to the Run for Recovery\, a virtual 5k run/walk supporting their mission to help support those struggling with addiction and recovery.<br />\n<br />\n&nbsp\;
LOCATION:To register go to: https://docs.google.com/forms/d/e/1FAIpQLSdB6eFBqNrWnW8DV-TwynJE1JncpvYZuZuk5PQ_F9IYRS7oxg/viewform
UID:e.845.17733
SEQUENCE:3
DTSTAMP:20260420T031714Z
URL:https://business.halifaxchamber.net/events/details/run-for-recovery-17733
END:VEVENT

END:VCALENDAR
