BEGIN:VCALENDAR
VERSION:2.0
PRODID:-//ChamberMaster//Event Calendar 2.0//EN
METHOD:PUBLISH
X-PUBLISHED-TTL:P3D
REFRESH-INTERVAL:P3D
CALSCALE:GREGORIAN
BEGIN:VEVENT
DTSTART:20191031T220000Z
DTEND:20191101T000000Z
X-MICROSOFT-CDO-ALLDAYEVENT:FALSE
SUMMARY:Safe & Fun Trick-or-Treating
DESCRIPTION:Join Berry Hill Health & Rehab Center for Safe & Fun Trick-or-Treating.\n\nThere will be carnival activities\, games\, a haunted hallway\, face painting and more!\n\nBring kids up to age 12.\n\nWelcoming candy donations\, please contact Wendy Tucker for any questions.
X-ALT-DESC;FMTTYPE=text/html:Join Berry Hill Health &amp\; Rehab Center for Safe &amp\; Fun Trick-or-Treating.<br />\nThere will be carnival activities\, games\, a haunted hallway\, face painting and more!<br />\nBring kids up to age 12.<br />\nWelcoming candy donations\, please contact Wendy Tucker for any questions.
LOCATION:Berry Hill Health & Rehab Center 621 Berry Hill Road South Boston\, VA 24592
UID:e.845.14488
SEQUENCE:3
DTSTAMP:20260420T214736Z
URL:https://business.halifaxchamber.net/events/details/safe-fun-trick-or-treating-14488
END:VEVENT

END:VCALENDAR
