BEGIN:VCALENDAR
VERSION:2.0
PRODID:-//ChamberMaster//Event Calendar 2.0//EN
METHOD:PUBLISH
X-PUBLISHED-TTL:P3D
REFRESH-INTERVAL:P3D
CALSCALE:GREGORIAN
BEGIN:VEVENT
DTSTART:20191031T213000Z
DTEND:20191031T223000Z
X-MICROSOFT-CDO-ALLDAYEVENT:FALSE
SUMMARY:Safe Trick-or-Treat
DESCRIPTION:Join Sentara Woodview for Safe Trick-or-Treat on Halloween. \n\nChildren ages 12 and under only\, accompanied by an adult.
X-ALT-DESC;FMTTYPE=text/html:Join Sentara Woodview for Safe Trick-or-Treat on Halloween.&nbsp\;<br />\nChildren ages 12 and under only\, accompanied by an adult.
LOCATION:Sentara Woodview Dining Hall 103 Rosehill Drive South Boston\, VA 24592
UID:e.845.14475
SEQUENCE:3
DTSTAMP:20260420T233838Z
URL:https://business.halifaxchamber.net/events/details/safe-trick-or-treat-14475
END:VEVENT

END:VCALENDAR
