BEGIN:VCALENDAR
VERSION:2.0
PRODID:-//ChamberMaster//Event Calendar 2.0//EN
METHOD:PUBLISH
X-PUBLISHED-TTL:P3D
REFRESH-INTERVAL:P3D
CALSCALE:GREGORIAN
BEGIN:VEVENT
DTSTART:20171027T220000Z
DTEND:20171027T230000Z
X-MICROSOFT-CDO-ALLDAYEVENT:FALSE
SUMMARY:Safe Trick or Treat
DESCRIPTION:Safe Trick-or-Treat at Sentara Woodview on Friday\, October 27\, from 6 - 7 p.m. Children ages 12 and under only\, accompanied by an adult.\n\n\n\nCandy\, Games and Fun + Haunted House!
X-ALT-DESC;FMTTYPE=text/html:<span style="color: rgb(75\, 79\, 86)\; font-family: &quot\;SF Optimized&quot\;\, system-ui\, -apple-system\, system-ui\, &quot\;.SFNSText-Regular&quot\;\, sans-serif\; font-size: 14px\; letter-spacing: -0.12px\;">Safe Trick-or-Treat at Sentara Woodview on Friday\, October 27\, from 6 - 7 p.m. Children ages 12 and under only\, accompanied by an adult.<br />\n<br />\nCandy\, Games and Fun + Haunted House!&nbsp\;</span>
LOCATION:The Woodview 103 Rosehill Drive South Boston\, VA
UID:e.845.7118
SEQUENCE:3
DTSTAMP:20260422T135611Z
URL:https://business.halifaxchamber.net/events/details/safe-trick-or-treat-7118
END:VEVENT

END:VCALENDAR
