BEGIN:VCALENDAR
VERSION:2.0
PRODID:-//ChamberMaster//Event Calendar 2.0//EN
METHOD:PUBLISH
X-PUBLISHED-TTL:P3D
REFRESH-INTERVAL:P3D
CALSCALE:GREGORIAN
BEGIN:VEVENT
DTSTART:20191208T223000Z
DTEND:20191208T233000Z
X-MICROSOFT-CDO-ALLDAYEVENT:FALSE
SUMMARY:Santa Paws Children’s Christmas and Pet Parade
DESCRIPTION:Children are invited to dress up their pets in their holiday best and participate in this year's miniature Christmas parade in the Town of Halifax. \n\nEnjoy the tree lighting ceremony\, then the parade of wagons will make its way up the sidewalks of Main Street where all the pet participants must be on a leash\, whether in a wagon or walking.\n\nIf an individual doesn't have a pet\, he or she can bring their favorite plush pet.\n\nAll ages are welcome to participate\, but only those 12 and under will be eligible for prizes.\n\nIndividuals also must clean up after their pet.\n\nUnload and line up starts at 5:30 p.m. at Halifax Farmers Market. Parade starts at 6 p.m.\n\nEntry fee is a donation of dog or cat food\, gift cards or cash.\n\nAll proceeds will be divided and distributed among Halifax County rescue groups.\n\nFor more information or parade application\, call Sharon Blosser at 434-579-5415 or Marsha Hite at 434-470-1211
X-ALT-DESC;FMTTYPE=text/html:<div>\n<p>Children are invited to dress up their pets in their holiday best and participate in this year&rsquo\;s miniature Christmas parade in the Town of Halifax.&nbsp\;</p>\n\n<p>Enjoy the tree lighting ceremony\, then the parade of wagons will make its way up the sidewalks of Main Street where all the pet participants must be on a leash\, whether in a wagon or walking.</p>\n\n<p>If an individual doesn&rsquo\;t have a pet\, he or she can bring their favorite plush pet.</p>\n\n<p>All ages are welcome to participate\, but only those 12 and under will be eligible for prizes.</p>\n\n<p>Individuals also must clean up after their pet.</p>\n\n<p>Unload and line up starts at 5:30 p.m. at Halifax Farmers Market. Parade starts at 6 p.m.</p>\n\n<p>Entry fee is a donation of dog or cat food\, gift cards or cash.</p>\n\n<p>All proceeds will be divided and distributed among Halifax County rescue groups.</p>\n\n<p>For more information or parade application\, call Sharon Blosser at 434-579-5415 or Marsha Hite at 434-470-1211</p>\n</div>\n\n<div>&nbsp\;</div>\n
LOCATION:Town of Halifax Farmers Market
UID:e.845.15574
SEQUENCE:3
DTSTAMP:20260420T200430Z
URL:https://business.halifaxchamber.net/events/details/santa-paws-children-s-christmas-and-pet-parade-12-08-2019-15574
END:VEVENT

END:VCALENDAR
