BEGIN:VCALENDAR
VERSION:2.0
PRODID:-//ChamberMaster//Event Calendar 2.0//EN
METHOD:PUBLISH
X-PUBLISHED-TTL:P3D
REFRESH-INTERVAL:P3D
CALSCALE:GREGORIAN
BEGIN:VEVENT
DTSTART:20191201T223000Z
DTEND:20191202T000000Z
X-MICROSOFT-CDO-ALLDAYEVENT:FALSE
SUMMARY:Santa Paws Children's Christmas and Pet Parade
DESCRIPTION:Get ready to dress up your pets in their Holiday best and join in the Children's Christmas Parade. Enjoy the tree lighting ceremony\, then a miniature Christmas Parade where all the pet participants must be on a leash.\n\nOpen to all ages\, but only children 12 years and under will be eligible for prizes.\n\nUnload and line up starting at 5:30 pm at the Farmers Market parking lot with parade starting at 6:00 pm\n\nDonations of dog or cat food\, gift cars or cash will be accepted for entry and all proceeds will be divided among Halifax County Animal Rescue Groups!\n\n\n\nContact Sharon Blosser @ 434.579.5415 or Marsha Hite @ 434.470.1211 for more information
X-ALT-DESC;FMTTYPE=text/html:Get ready to dress up your pets in their Holiday best and join in the Children&#39\;s Christmas Parade. Enjoy the tree lighting ceremony\, then a miniature Christmas Parade where all the pet participants must be on a leash.<br />\nOpen to all ages\, but only children 12 years and under will be eligible for prizes.<br />\nUnload and line up starting at 5:30 pm at the Farmers Market parking lot with parade starting at 6:00 pm<br />\nDonations of dog or cat food\, gift cars or cash will be accepted for entry and all proceeds will be divided among Halifax County Animal Rescue Groups!<br />\n<br />\nContact Sharon Blosser @ 434.579.5415 or Marsha Hite @ 434.470.1211 for more information
LOCATION:Town of Halifax Farmers Market 209 South Main Street Halifax\, VA 24558
UID:e.845.15535
SEQUENCE:3
DTSTAMP:20260420T183434Z
URL:https://business.halifaxchamber.net/events/details/santa-paws-children-s-christmas-and-pet-parade-15535
END:VEVENT

END:VCALENDAR
