BEGIN:VCALENDAR
VERSION:2.0
PRODID:-//ChamberMaster//Event Calendar 2.0//EN
METHOD:PUBLISH
X-PUBLISHED-TTL:P3D
REFRESH-INTERVAL:P3D
CALSCALE:GREGORIAN
BEGIN:VEVENT
DTSTART:20181216T180000Z
DTEND:20181216T220000Z
X-MICROSOFT-CDO-ALLDAYEVENT:FALSE
SUMMARY:Santa Pictures at Springfield!
DESCRIPTION:Heather Chipps Townsend is kind enough to donate her time to capture your young ones meeting Santa! We will share all photos from the day.\n\n\n\nFamily Career and Community Leaders of America unites students in Family Consumer Science classes to volunteer and compete in different activities. Our continuing goal is to be able to compete for the first time at the state level. This would be a first for the Halifax Comets Chapter of FCCLA.\n\nLast year with money raised we gave a scholarship to an outstanding FCCLA member as well as funded a community project to give back to a local nursing home.
X-ALT-DESC;FMTTYPE=text/html:<span style="color: rgb(29\, 33\, 41)\; font-family: system-ui\, -apple-system\, system-ui\, &quot\;.SFNSText-Regular&quot\;\, sans-serif\; font-size: 14px\;">Heather Chipps Townsend is kind enough to donate her time to capture your young ones meeting Santa! We will share all photos from the day.</span><br style="color: rgb(29\, 33\, 41)\; font-family: system-ui\, -apple-system\, system-ui\, &quot\;.SFNSText-Regular&quot\;\, sans-serif\; font-size: 14px\;" />\n<br style="color: rgb(29\, 33\, 41)\; font-family: system-ui\, -apple-system\, system-ui\, &quot\;.SFNSText-Regular&quot\;\, sans-serif\; font-size: 14px\;" />\n<span style="color: rgb(29\, 33\, 41)\; font-family: system-ui\, -apple-system\, system-ui\, &quot\;.SFNSText-Regular&quot\;\, sans-serif\; font-size: 14px\;">Family Career and Community Leaders of America unites students in Family Consumer Science classes to volunteer and compete in different activities. Our continuing goal is to be able to compete for the first time at the state level. This would be a first for the Halifax Comets Chapter of FCCLA.</span><br style="color: rgb(29\, 33\, 41)\; font-family: system-ui\, -apple-system\, system-ui\, &quot\;.SFNSText-Regular&quot\;\, sans-serif\; font-size: 14px\;" />\n<span style="color: rgb(29\, 33\, 41)\; font-family: system-ui\, -apple-system\, system-ui\, &quot\;.SFNSText-Regular&quot\;\, sans-serif\; font-size: 14px\;">Last year with money raised we gave a scholarship to an outstanding FCCLA member as well as funded a community project to give back to a local nursing home.&nbsp\;</span>
LOCATION:Springfield Distillery 9040 River Road Halifax\, VA
UID:e.845.8579
SEQUENCE:3
DTSTAMP:20260421T140111Z
URL:https://business.halifaxchamber.net/events/details/santa-pictures-at-springfield-8579
END:VEVENT

END:VCALENDAR
