BEGIN:VCALENDAR
VERSION:2.0
PRODID:-//ChamberMaster//Event Calendar 2.0//EN
METHOD:PUBLISH
X-PUBLISHED-TTL:P3D
REFRESH-INTERVAL:P3D
CALSCALE:GREGORIAN
BEGIN:VEVENT
DTSTART;VALUE=DATE:20190504
DTEND;VALUE=DATE:20190505
TRANSP:TRANSPARENT
X-MICROSOFT-CDO-ALLDAYEVENT:TRUE
SUMMARY:SAT Halifax County High School
DESCRIPTION:Attention all high school 11th and 12th graders - the SAT will be held at Halifax County High School Saturday\, May 4. First deadline is April 5 with 2nd deadline April 24. There is a fee to apply. Register at www.collegeboard.org. For questions\, call 575-2016 or 575-2022
X-ALT-DESC;FMTTYPE=text/html:Attention all high school 11th and 12th graders - the SAT will be held at Halifax County High School Saturday\, May 4. First deadline is April 5 with 2nd deadline April 24. There is a fee to apply. Register at www.collegeboard.org. For questions\, call 575-2016 or 575-2022
LOCATION:
UID:e.845.12389
SEQUENCE:3
DTSTAMP:20260421T062400Z
URL:https://business.halifaxchamber.net/events/details/sat-halifax-county-high-school-12389
END:VEVENT

END:VCALENDAR
