BEGIN:VCALENDAR
VERSION:2.0
PRODID:-//ChamberMaster//Event Calendar 2.0//EN
METHOD:PUBLISH
X-PUBLISHED-TTL:P3D
REFRESH-INTERVAL:P3D
CALSCALE:GREGORIAN
BEGIN:VEVENT
DTSTART:20200522T150000Z
DTEND:20200522T160000Z
X-MICROSOFT-CDO-ALLDAYEVENT:FALSE
SUMMARY:SBA Economic Resources for COVID-19 (EIDL)
DESCRIPTION:This webinar will provide a high-level general overview of the SBA's Economic Injury Disaster Loan (EIDL ). We will cover the qualifications\, terms\, and features of the program and briefly cover the application process. The SBA's Economic Injury Disaster Loan program provides small businesses with working capital loans of up to $2 million that can provide vital economic support to small businesses to help overcome the temporary loss of revenue they are experiencing. The EIDL loan advance provides economic relief to businesses that are currently experiencing a temporary loss of revenue.
X-ALT-DESC;FMTTYPE=text/html:<div class="structured-content-rich-text structured-content__module l-align-left l-mar-vert-6 l-sm-mar-vert-4 text-body-medium" style="margin: 30px 0px\; padding: 0px\; font-size: 14.9333px\; line-height: 1.25rem\; text-rendering: optimizelegibility\; color: rgb(57\, 54\, 79)\; font-family: &quot\;Neue Plak&quot\;\, -apple-system\, system-ui\, Roboto\, &quot\;Helvetica Neue&quot\;\, Helvetica\, Tahoma\, Arial\, sans-serif\; letter-spacing: 0.5px\;">\n<p style="margin: 0px\; padding: 0px\; color: rgb(111\, 114\, 135)\; font-size: 16px\; line-height: 1.5rem\;">This webinar will provide a high-level general overview of the SBA&#39\;s Economic Injury Disaster Loan (EIDL ). We will cover the qualifications\, terms\, and features of the program and briefly cover the application process. The SBA&rsquo\;s Economic Injury Disaster Loan program provides small businesses with working capital loans of up to $2 million that can provide vital economic support to small businesses to help overcome the temporary loss of revenue they are experiencing. The EIDL loan advance provides economic relief to businesses that are currently experiencing a temporary loss of revenue.</p>\n</div>\n
LOCATION:Register at https://www.eventbrite.com/e/webinar-paycheck-protection-program-ppp-tickets-104684293540?utm_medium=email&utm_source=govdelivery
UID:e.845.17650
SEQUENCE:3
DTSTAMP:20260420T100151Z
URL:https://business.halifaxchamber.net/events/details/sba-economic-resources-for-covid-19-eidl-05-22-2020-17650
END:VEVENT

END:VCALENDAR
