BEGIN:VCALENDAR
VERSION:2.0
PRODID:-//ChamberMaster//Event Calendar 2.0//EN
METHOD:PUBLISH
X-PUBLISHED-TTL:P3D
REFRESH-INTERVAL:P3D
CALSCALE:GREGORIAN
BEGIN:VEVENT
DTSTART:20200507T130000Z
DTEND:20200507T140000Z
X-MICROSOFT-CDO-ALLDAYEVENT:FALSE
SUMMARY:SBA Economic Resources for COVID-19 (EIDL) - Agricultural Businesses
DESCRIPTION:This webinar will provide a high-level general overview of the SBA's Economic Injury Disaster Loan (EIDL ). We will cover the qualifications\, terms\, and features of the program and briefly cover the application process. The SBA's Economic Injury Disaster Loan program provides small businesses with working capital loans of up to $2 million that can provide vital economic support to small businesses to help overcome the temporary loss of revenue they are experiencing. The EIDL loan advance provides economic relief to businesses that are currently experiencing a temporary loss of revenue.
X-ALT-DESC;FMTTYPE=text/html:<span style="font-size: 16px\; caret-color: rgb(111\, 114\, 135)\; color: rgb(111\, 114\, 135)\; font-family: &quot\;Neue Plak&quot\;\, -apple-system\, BlinkMacSystemFont\, Roboto\, &quot\;Helvetica Neue&quot\;\, Helvetica\, Tahoma\, Arial\, sans-serif\; letter-spacing: 0.5px\;">This webinar will provide a high-level general overview of the SBA&#39\;s Economic Injury Disaster Loan (EIDL ). We will cover the qualifications\, terms\, and features of the program and briefly cover the application process. The SBA&rsquo\;s Economic Injury Disaster Loan program provides small businesses with working capital loans of up to $2 million that can provide vital economic support to small businesses to help overcome the temporary loss of revenue they are experiencing. The EIDL loan advance provides economic relief to businesses that are currently experiencing a temporary loss of revenue.</span>
LOCATION:Register at: https://www.eventbrite.com/e/webinar-sba-economic-resources-for-covid-19-agricultural-businesses-tickets-104166452664?utm_medium=email&utm_source=govdelivery
UID:e.845.17590
SEQUENCE:3
DTSTAMP:20260420T100452Z
URL:https://business.halifaxchamber.net/events/details/sba-economic-resources-for-covid-19-eidl-agricultural-businesses-17590
END:VEVENT

END:VCALENDAR
