BEGIN:VCALENDAR
VERSION:2.0
PRODID:-//ChamberMaster//Event Calendar 2.0//EN
METHOD:PUBLISH
X-PUBLISHED-TTL:P3D
REFRESH-INTERVAL:P3D
CALSCALE:GREGORIAN
BEGIN:VEVENT
DTSTART:20200519T130000Z
DTEND:20200519T140000Z
X-MICROSOFT-CDO-ALLDAYEVENT:FALSE
SUMMARY:SBA Economic Resources for COVID-19 (PPP)
DESCRIPTION:This webinar will provide a high-level general overview of the SBA's Economic Resources-Paycheck Protection Program (PPP). Eligible Paycheck Protection Program (PPP) recipients may qualify for a loan up to $10 million determined by 8 weeks of prior average payroll plus an additional 25% of that amount. We will cover the qualifications\, terms\, and features of each program and briefly cover the application process
X-ALT-DESC;FMTTYPE=text/html:<p style="margin: 0px\; padding: 0px\; color: rgb(111\, 114\, 135)\; font-size: 16px\; line-height: 1.5rem\; font-family: &quot\;Neue Plak&quot\;\, -apple-system\, system-ui\, Roboto\, &quot\;Helvetica Neue&quot\;\, Helvetica\, Tahoma\, Arial\, sans-serif\; letter-spacing: 0.5px\;">This webinar will provide a high-level general overview of the SBA&#39\;s Economic Resources-Paycheck Protection Program (PPP). Eligible Paycheck Protection Program (PPP) recipients may qualify for a loan up to $10 million determined by 8 weeks of prior average payroll plus an additional 25% of that amount. We will cover the qualifications\, terms\, and features of each program and briefly cover the application process</p>\n
LOCATION:Register at https://www.eventbrite.com/e/webinar-paycheck-protection-program-ppp-tickets-104684293540?utm_medium=email&utm_source=govdelivery
UID:e.845.17614
SEQUENCE:3
DTSTAMP:20260420T100140Z
URL:https://business.halifaxchamber.net/events/details/sba-economic-resources-for-covid-19-ppp-17614
END:VEVENT

END:VCALENDAR
