BEGIN:VCALENDAR
VERSION:2.0
PRODID:-//ChamberMaster//Event Calendar 2.0//EN
METHOD:PUBLISH
X-PUBLISHED-TTL:P3D
REFRESH-INTERVAL:P3D
CALSCALE:GREGORIAN
BEGIN:VEVENT
DTSTART:20200415T140000Z
DTEND:20200415T150000Z
X-MICROSOFT-CDO-ALLDAYEVENT:FALSE
SUMMARY:SBA Loan Navigation and Resources Webinar
DESCRIPTION:Join us for a webinar on loan navigation and resources available through the U.S. Small Business Administration. \n\nEconomic Injury Disaster Loan\n\nMartin Short\, U.S. Small Business Administration\, Lead Economic Development Specialist\n\n\n\nPaycheck Protection Program\n\nTammy Pool\, Senior Vice President - Community Banking Director\, Carter Bank & Trust\n\nDawn DeHart\, Community Development Lending Director\, Carter Bank & Trust
X-ALT-DESC;FMTTYPE=text/html:<p>Join us for a webinar on loan navigation and resources available through the U.S. Small Business Administration.&nbsp\;</p>\n\n<p>Economic Injury Disaster Loan<br />\nMartin Short\, U.S. Small Business Administration\, Lead Economic Development Specialist<br />\n<br />\nPaycheck Protection Program<br />\nTammy Pool\, Senior Vice President - Community Banking Director\,&nbsp\;Carter Bank &amp\; Trust<br />\nDawn DeHart\, Community Development Lending Director\, Carter Bank &amp\; Trust</p>\n
LOCATION:Via ZOOM https://zoom.us/webinar/register/WN_EySH7HRSQmG-FDXfndg_xw
UID:e.845.17561
SEQUENCE:3
DTSTAMP:20260420T114251Z
URL:https://business.halifaxchamber.net/events/details/sba-loan-navigation-and-resources-webinar-17561
END:VEVENT

END:VCALENDAR
