BEGIN:VCALENDAR
VERSION:2.0
PRODID:-//ChamberMaster//Event Calendar 2.0//EN
METHOD:PUBLISH
X-PUBLISHED-TTL:P3D
REFRESH-INTERVAL:P3D
CALSCALE:GREGORIAN
BEGIN:VEVENT
DTSTART:20190731T190000Z
DTEND:20190731T210000Z
X-MICROSOFT-CDO-ALLDAYEVENT:FALSE
SUMMARY:SBA & USDA Lending Forum
DESCRIPTION:This session will provide participants with an overview of SBA & USDA/Rural Business Cooperative-Services (RBS)'s programs and services. The event will focus around accessing capital and lending for startups and small businesses.\n\nParticipants will have the opportunity to field questions to lenders and learn more about small business loan application requirements. In addition\, representatives from the Southern Virginia Higher Education Center and the Small Business Development Center will be present to provide an overview of their programs and services.\n\nRegistration is required at www.sbdc-longwood.com/training
X-ALT-DESC;FMTTYPE=text/html:This session will provide participants with an overview of SBA &amp\; USDA/Rural Business Cooperative-Services (RBS)&#39\;s programs and services. The event will focus around accessing capital and lending for startups and small businesses.<br />\nParticipants will have the opportunity to field questions to lenders and learn more about small business loan application requirements. In addition\, representatives from the Southern Virginia Higher Education Center and the Small Business Development Center will be present to provide an overview of their programs and services.<br />\nRegistration is required at&nbsp\;<span style="color: rgb(17\, 89\, 115)\; font-family: EstrangeloEdessa\; font-size: 12pt\;">www.sbdc-longwood.com/training</span>
LOCATION:Southern Virginia Higher Education Center Innovation Center Building 820 Bruce Street South Boston\, VA 24592
UID:e.845.13170
SEQUENCE:3
DTSTAMP:20260421T030136Z
URL:https://business.halifaxchamber.net/events/details/sba-usda-lending-forum-13170
END:VEVENT

END:VCALENDAR
