BEGIN:VCALENDAR
VERSION:2.0
PRODID:-//ChamberMaster//Event Calendar 2.0//EN
METHOD:PUBLISH
X-PUBLISHED-TTL:P3D
REFRESH-INTERVAL:P3D
CALSCALE:GREGORIAN
BEGIN:VEVENT
DTSTART;VALUE=DATE:20170415
DTEND;VALUE=DATE:20170417
TRANSP:TRANSPARENT
X-MICROSOFT-CDO-ALLDAYEVENT:TRUE
SUMMARY:SCCA Majors Tour "VIR Spring Sprints"
DESCRIPTION:For 2017\, the Sports Car Club of America Eastern Conference has been divided into North and South Conferences. This premier Majors event for both the Northeast and Southeast Conferences is sure to demand your attention as some of the best amateur drivers in the country take the track! VIR is the first of only two venues on the Majors Tour calendar to award points to both conferences. With the Runoffs being at Daytona this year\, this will be a must event for any east coast drivers contemplating a Runoffs bid. There's nothing like that pit in your gut that tells you   no commands you: It's time to go racing.
X-ALT-DESC;FMTTYPE=text/html:<span style="color:rgb(0\, 0\, 0)\; font-family:helveticaneue-light\,helvetica neue light\,helvetica neue\,helvetica\,arial\,lucida grande\,sans-serif\; font-size:16px">For 2017\, the Sports Car Club of America Eastern Conference has been divided into&nbsp\;North and South Conferences. This premier Majors event for both the Northeast and Southeast&nbsp\;Conferences is sure to demand your attention as some of the best amateur drivers in the country take&nbsp\;the track! VIR is the first of only two venues on the Majors Tour calendar to award points to both&nbsp\;conferences. With the Runoffs being at Daytona this year\, this will be a must event for any east coast&nbsp\;drivers contemplating a Runoffs bid. There&rsquo\;s nothing like that pit in your gut that tells you &ndash\; no&nbsp\;commands you: It&rsquo\;s time to go racing.</span>
LOCATION:VIRginia International Raceway 1245 Pine Tree Road Alton\, VA 24520
UID:e.845.5756
SEQUENCE:3
DTSTAMP:20260424T132046Z
URL:https://business.halifaxchamber.net/events/details/scca-majors-tour-vir-spring-sprints-04-16-2017-5756
END:VEVENT

END:VCALENDAR
