BEGIN:VCALENDAR
VERSION:2.0
PRODID:-//ChamberMaster//Event Calendar 2.0//EN
METHOD:PUBLISH
X-PUBLISHED-TTL:P3D
REFRESH-INTERVAL:P3D
CALSCALE:GREGORIAN
BEGIN:VEVENT
DTSTART:20190708T223000Z
DTEND:20190709T010000Z
X-MICROSOFT-CDO-ALLDAYEVENT:FALSE
SUMMARY:School Board Meeting July
DESCRIPTION:School Board Meeting
X-ALT-DESC;FMTTYPE=text/html:School Board Meeting
LOCATION:Mary Bethune Office Complex Public Meeting Room
UID:e.845.12370
SEQUENCE:3
DTSTAMP:20260421T031057Z
URL:https://business.halifaxchamber.net/events/details/school-board-meeting-july-12370
END:VEVENT

END:VCALENDAR
