BEGIN:VCALENDAR
VERSION:2.0
PRODID:-//ChamberMaster//Event Calendar 2.0//EN
METHOD:PUBLISH
X-PUBLISHED-TTL:P3D
REFRESH-INTERVAL:P3D
CALSCALE:GREGORIAN
BEGIN:VEVENT
DTSTART:20181215T220000Z
DTEND:20181215T230000Z
X-MICROSOFT-CDO-ALLDAYEVENT:FALSE
SUMMARY:Scottsburg Christmas Parade
DESCRIPTION:Scottsburg Christmas Parade
X-ALT-DESC;FMTTYPE=text/html:Scottsburg Christmas Parade
LOCATION:Downtown Scottsburg\, VA
UID:e.845.11438
SEQUENCE:3
DTSTAMP:20260421T140122Z
URL:https://business.halifaxchamber.net/events/details/scottsburg-christmas-parade-11438
END:VEVENT

END:VCALENDAR
