BEGIN:VCALENDAR
VERSION:2.0
PRODID:-//ChamberMaster//Event Calendar 2.0//EN
METHOD:PUBLISH
X-PUBLISHED-TTL:P3D
REFRESH-INTERVAL:P3D
CALSCALE:GREGORIAN
BEGIN:VEVENT
DTSTART:20161202T230000Z
DTEND:20161203T010000Z
X-MICROSOFT-CDO-ALLDAYEVENT:FALSE
SUMMARY:Seats With A Story
DESCRIPTION:Seats with a Story tickets are now on sale at both branches of the library. The event will be a fundraiser for the library's early literacy programs. Children's chairs decorated by local artist will be auctioned off. Food will be available and there will be a wine tasting.
X-ALT-DESC;FMTTYPE=text/html:Seats with a Story tickets are now on sale at both branches of the library. The event will be a fundraiser for the library&#39\;s early literacy programs. Children&#39\;s chairs decorated by local artist will&nbsp\;be auctioned off. Food will be available and there will be a wine tasting.
LOCATION:South Boston Public Library
UID:e.845.5725
SEQUENCE:3
DTSTAMP:20260424T192802Z
URL:https://business.halifaxchamber.net/events/details/seats-with-a-story-5725
END:VEVENT

END:VCALENDAR
