BEGIN:VCALENDAR
VERSION:2.0
PRODID:-//ChamberMaster//Event Calendar 2.0//EN
METHOD:PUBLISH
X-PUBLISHED-TTL:P3D
REFRESH-INTERVAL:P3D
CALSCALE:GREGORIAN
BEGIN:VEVENT
DTSTART:20190304T224500Z
DTEND:20190305T000000Z
X-MICROSOFT-CDO-ALLDAYEVENT:FALSE
SUMMARY:Second Public Hearing/Community Meeting Popular Creek Homes Project
DESCRIPTION:The Town of South Boston will hold a public hearing on Monday\, March 4\, 2019 at 5:45 pm at the Town of South Boston Council Chambers\, 502 Yancey Street\, South Boston\, Virginia to solicit public input on the proposed Poplar Creek Homes housing project to benefit low-to-moderate income individuals and families. Citizens will be informed of the Town's intent to apply for Community Development Block Grant funds to construct an affordable housing community in South Boston.
X-ALT-DESC;FMTTYPE=text/html:The Town of South Boston will hold a public hearing on Monday\, March 4\, 2019 at 5:45 pm at the Town of South Boston Council Chambers\, 502 Yancey Street\, South Boston\, Virginia to solicit public input on the proposed Poplar Creek Homes housing project to benefit low-to-moderate income individuals and families. Citizens will be informed of the Town&#39\;s intent to apply for Community Development Block Grant funds to construct an affordable housing community in South Boston.
LOCATION:Town of South Boston Council Chambers 502 Yancey Street South Boston\, VA
UID:e.845.12051
SEQUENCE:3
DTSTAMP:20260421T093917Z
URL:https://business.halifaxchamber.net/events/details/second-public-hearing-community-meeting-popular-creek-homes-project-12051
END:VEVENT

END:VCALENDAR
