BEGIN:VCALENDAR
VERSION:2.0
PRODID:-//ChamberMaster//Event Calendar 2.0//EN
METHOD:PUBLISH
X-PUBLISHED-TTL:P3D
REFRESH-INTERVAL:P3D
CALSCALE:GREGORIAN
BEGIN:VEVENT
DTSTART:20170311T190000Z
DTEND:20170311T210000Z
X-MICROSOFT-CDO-ALLDAYEVENT:FALSE
SUMMARY:Second Saturday Family Art at the Prizery
DESCRIPTION:The Prizery is hosting Second Saturday Family Art! \n\n\n\nRegister for this fun afternoon of children and their grownups creating a take-home Spring art project together by calling Susi Robbins at (434) 222-5167.
X-ALT-DESC;FMTTYPE=text/html:The Prizery is hosting Second Saturday Family Art!&nbsp\;<br />\n<br />\nRegister for this&nbsp\;fun afternoon of children and their grownups creating a take-home Spring art project together by calling Susi Robbins at (434) 222-5167.
LOCATION:The Prizery 700 Bruce St. South Boston\, VA 24592
UID:e.845.5828
SEQUENCE:3
DTSTAMP:20260424T133704Z
URL:https://business.halifaxchamber.net/events/details/second-saturday-family-art-at-the-prizery-5828
END:VEVENT

END:VCALENDAR
