BEGIN:VCALENDAR
VERSION:2.0
PRODID:-//ChamberMaster//Event Calendar 2.0//EN
METHOD:PUBLISH
X-PUBLISHED-TTL:P3D
REFRESH-INTERVAL:P3D
CALSCALE:GREGORIAN
BEGIN:VEVENT
DTSTART:20171010T130000Z
DTEND:20171010T160000Z
X-MICROSOFT-CDO-ALLDAYEVENT:FALSE
SUMMARY:Senior Health Fair
DESCRIPTION:Team Nurse\, Commonwealth Home Health and Personal HomeCare have partnered to bring a Senior Health Fair to our area. \n\n\n\nThe goal is to offer a free public event for seniors and their familes to learn about options available to them as they age.\n\n\n\nFor more information or a vendor application\, email blloyd@teamnurse.com.\n\nDeadline to register as a vendor is September 1\, 2017.
X-ALT-DESC;FMTTYPE=text/html:Team Nurse\, Commonwealth Home Health and Personal HomeCare have partnered to bring a Senior Health Fair to our area.&nbsp\;<br />\n<br />\nThe goal is to offer a free public event for seniors and their familes to learn about options available to them as they age.<br />\n<br />\nFor more information or a vendor application\, email blloyd@teamnurse.com.<br />\nDeadline to register as a vendor is September 1\, 2017.&nbsp\;
LOCATION:First Baptist Church 815 N Main St. South Boston\, VA
UID:e.845.7061
SEQUENCE:3
DTSTAMP:20260422T135916Z
URL:https://business.halifaxchamber.net/events/details/senior-health-fair-7061
END:VEVENT

END:VCALENDAR
