BEGIN:VCALENDAR
VERSION:2.0
PRODID:-//ChamberMaster//Event Calendar 2.0//EN
METHOD:PUBLISH
X-PUBLISHED-TTL:P3D
REFRESH-INTERVAL:P3D
CALSCALE:GREGORIAN
BEGIN:VEVENT
DTSTART:20190221T223000Z
DTEND:20190222T000000Z
X-MICROSOFT-CDO-ALLDAYEVENT:FALSE
SUMMARY:Sentara Business After Hours
DESCRIPTION:Join Sentara Halifax Regional Hospital as they celebrate Heart Month during their Business After Hours event!
X-ALT-DESC;FMTTYPE=text/html:Join Sentara Halifax Regional Hospital as they celebrate Heart Month during their Business After Hours event!&nbsp\;&nbsp\;&nbsp\;&nbsp\;&nbsp\;&nbsp\;&nbsp\;&nbsp\;
LOCATION:Sentara Halifax Regional Hospital
UID:e.845.9433
SEQUENCE:3
DTSTAMP:20260421T105903Z
URL:https://business.halifaxchamber.net/events/details/sentara-business-after-hours-9433
END:VEVENT

END:VCALENDAR
