BEGIN:VCALENDAR
VERSION:2.0
PRODID:-//ChamberMaster//Event Calendar 2.0//EN
METHOD:PUBLISH
X-PUBLISHED-TTL:P3D
REFRESH-INTERVAL:P3D
CALSCALE:GREGORIAN
BEGIN:VEVENT
DTSTART:20190121T190000Z
DTEND:20190121T220000Z
X-MICROSOFT-CDO-ALLDAYEVENT:FALSE
SUMMARY:Sentara Halifax Regional Career Fair
DESCRIPTION:New Year New Career!\n\nCurrent Openings Include:\n\nRN\, LPN\, CNA\, Cook\, Patient Care Supervisor/RN\, Echo Tech
X-ALT-DESC;FMTTYPE=text/html:New Year New Career!<br />\nCurrent Openings Include:<br />\nRN\, LPN\, CNA\, Cook\, Patient Care Supervisor/RN\, Echo Tech
LOCATION:Sentara Halifax Regional Leggett Auditorium 2204 Wilborn Ave South Boston\, VA
UID:e.845.11677
SEQUENCE:3
DTSTAMP:20260421T140334Z
URL:https://business.halifaxchamber.net/events/details/sentara-halifax-regional-career-fair-11677
END:VEVENT

END:VCALENDAR
