BEGIN:VCALENDAR
VERSION:2.0
PRODID:-//ChamberMaster//Event Calendar 2.0//EN
METHOD:PUBLISH
X-PUBLISHED-TTL:P3D
REFRESH-INTERVAL:P3D
CALSCALE:GREGORIAN
BEGIN:VEVENT
DTSTART:20190411T153000Z
DTEND:20190411T170000Z
X-MICROSOFT-CDO-ALLDAYEVENT:FALSE
SUMMARY:Sentara Halifax Regional Diabetes Group Classes
DESCRIPTION:Sentara Halifax Regional Hospital is offering FREE diabetes group classes on April 4th\, 11th\, and 25th at 1:30 p.m. in the Leggett Auditorium. The diabetes group classes are available to help you and your loved ones learn to monitor your blood glucose levels\, take medication appropriately\, plan nutritious meals and snacks\, make exercise an important part of your life\, manage stress\, and prevent complications related to diabetes. For more information or to register\, call 434-517-3804.
X-ALT-DESC;FMTTYPE=text/html:<span style="caret-color: rgb(29\, 33\, 41)\; color: rgb(29\, 33\, 41)\; font-family: system-ui\, -apple-system\, BlinkMacSystemFont\, &quot\;.SFNSText-Regular&quot\;\, sans-serif\; font-size: 14px\; background-color: rgb(255\, 255\, 255)\;">Sentara Halifax Regional Hospital is offering FREE diabetes group classes on April 4th\, 11th\, and 25th at 1:30 p.m. in the Leggett Auditorium. The diabetes group classes are available to help you and your loved ones learn to monitor your blood glucose levels\, take medication appropriately\, plan nutritious meals and snacks\, make exercise an important part of your life\, manage stress\, and prevent complications related to diabetes. For more information or to register\, call 434-517-3804.</span>
LOCATION:
UID:e.845.12419
SEQUENCE:3
DTSTAMP:20260421T075804Z
URL:https://business.halifaxchamber.net/events/details/sentara-halifax-regional-diabetes-group-classes-12419
END:VEVENT

END:VCALENDAR
