BEGIN:VCALENDAR
VERSION:2.0
PRODID:-//ChamberMaster//Event Calendar 2.0//EN
METHOD:PUBLISH
X-PUBLISHED-TTL:P3D
REFRESH-INTERVAL:P3D
CALSCALE:GREGORIAN
BEGIN:VEVENT
DTSTART:20190829T130000Z
DTEND:20190829T180000Z
X-MICROSOFT-CDO-ALLDAYEVENT:FALSE
SUMMARY:Sentara Heart Pocket EKG Screening
DESCRIPTION:FREE Screenings sponsored by Sentara Halifax Regional Hospital\n\nScreening results are provided to you on a pocket-sized card with an image of you EKG on the back.\n\nOnly 30 Reservations Available\n\nBy Appointment Only - call 434.517.3538
X-ALT-DESC;FMTTYPE=text/html:FREE Screenings sponsored by Sentara Halifax Regional Hospital<br />\nScreening results are provided to you on a pocket-sized card with an image of you EKG on the back.<br />\nOnly 30 Reservations Available<br />\nBy Appointment Only - call 434.517.3538
LOCATION:Sentara Halifax Regional Hospital Legget Auditorium 2204 Wilborn Avenue South Boston\, VA 24589
UID:e.845.13271
SEQUENCE:3
DTSTAMP:20260421T025642Z
URL:https://business.halifaxchamber.net/events/details/sentara-heart-pocket-ekg-screening-13271
END:VEVENT

END:VCALENDAR
