BEGIN:VCALENDAR
VERSION:2.0
PRODID:-//ChamberMaster//Event Calendar 2.0//EN
METHOD:PUBLISH
X-PUBLISHED-TTL:P3D
REFRESH-INTERVAL:P3D
CALSCALE:GREGORIAN
BEGIN:VEVENT
DTSTART:20190416T130000Z
DTEND:20190416T170000Z
X-MICROSOFT-CDO-ALLDAYEVENT:FALSE
SUMMARY:Sentara Heart Pocket EKG Sreening
DESCRIPTION:Free Screenings sponsored by Sentara Halifax Regional Hospital. Screening results are provided to you on a pocket-sized card with an image of your EKG on the back.\n\nFree Screening for Mecklenburg Residents \n\nTuesday\, April 16th 9 AM - 1 PM\n\nEstes Community Center\n\n316 North Main Street Chase City\, VA\n\n\n\nOnly 24 reservations available
X-ALT-DESC;FMTTYPE=text/html:Free Screenings sponsored by Sentara Halifax Regional Hospital. Screening results are provided to you on a pocket-sized card with an image of your EKG on the back.<br />\nFree Screening for Mecklenburg Residents&nbsp\;<br />\nTuesday\, April 16th 9 AM - 1 PM<br />\nEstes Community Center<br />\n316 North Main Street Chase City\, VA<br />\n<br />\nOnly 24 reservations available
LOCATION:
UID:e.845.12403
SEQUENCE:3
DTSTAMP:20260421T093732Z
URL:https://business.halifaxchamber.net/events/details/sentara-heart-pocket-ekg-sreening-12403
END:VEVENT

END:VCALENDAR
