BEGIN:VCALENDAR
VERSION:2.0
PRODID:-//ChamberMaster//Event Calendar 2.0//EN
METHOD:PUBLISH
X-PUBLISHED-TTL:P3D
REFRESH-INTERVAL:P3D
CALSCALE:GREGORIAN
BEGIN:VEVENT
DTSTART:20190417T130000Z
DTEND:20190417T180000Z
X-MICROSOFT-CDO-ALLDAYEVENT:FALSE
SUMMARY:Sentara Heart Pocket EKG Sreening
DESCRIPTION:Free Screenings sponsored by Sentara Halifax Regional Hospital. Screening results are provided to you on a pocket-sized card with an image of your EKG on the back.\n\nFree Screening for Halifax Residents\n\nWednesday\, April 17th 9 AM - 2 PM\n\nSentara Halifax Regional\n\nLeggett Auditorium\n\nOnly 30 Reservations available
X-ALT-DESC;FMTTYPE=text/html:Free Screenings sponsored by Sentara Halifax Regional Hospital. Screening results are provided to you on a pocket-sized card with an image of your EKG on the back.<br />\nFree Screening for Halifax Residents<br />\nWednesday\, April 17th 9 AM - 2 PM<br />\nSentara Halifax Regional<br />\nLeggett Auditorium<br />\nOnly 30 Reservations available
LOCATION:
UID:e.845.12404
SEQUENCE:3
DTSTAMP:20260421T075936Z
URL:https://business.halifaxchamber.net/events/details/sentara-heart-pocket-ekg-sreening-12404
END:VEVENT

END:VCALENDAR
