BEGIN:VCALENDAR
VERSION:2.0
PRODID:-//ChamberMaster//Event Calendar 2.0//EN
METHOD:PUBLISH
X-PUBLISHED-TTL:P3D
REFRESH-INTERVAL:P3D
CALSCALE:GREGORIAN
BEGIN:VEVENT
DTSTART:20170814T210000Z
DTEND:20170814T230000Z
X-MICROSOFT-CDO-ALLDAYEVENT:FALSE
SUMMARY:Sentara Nursing Job Fair
DESCRIPTION:Sentara Halifax Regional will be hosting a Nursing Job Fair. We welcome RNs and LPNs to come chat with managers about how to become a member of our team. Learn about increased RN rates and lucrative benefits (i.e. educational assistance\, paid time off\, etc.) Enjoy light hors d' oeuvres and appetizers.
X-ALT-DESC;FMTTYPE=text/html:Sentara&nbsp\;Halifax Regional will be hosting a Nursing Job Fair. We welcome RNs and LPNs to come chat with managers about how to become a member of our team. Learn about increased RN rates and lucrative benefits (i.e. educational&nbsp\;assistance\, paid time off\, etc.) Enjoy light&nbsp\;hors d&#39\; oeuvres and appetizers.
LOCATION:The Lamplighter 201 Virginia Ave. Clarksville\, VA
UID:e.845.7064
SEQUENCE:3
DTSTAMP:20260422T175449Z
URL:https://business.halifaxchamber.net/events/details/sentara-nursing-job-fair-7064
END:VEVENT

END:VCALENDAR
