BEGIN:VCALENDAR
VERSION:2.0
PRODID:-//ChamberMaster//Event Calendar 2.0//EN
METHOD:PUBLISH
X-PUBLISHED-TTL:P3D
REFRESH-INTERVAL:P3D
CALSCALE:GREGORIAN
BEGIN:VEVENT
DTSTART:20170815T210000Z
DTEND:20170815T230000Z
X-MICROSOFT-CDO-ALLDAYEVENT:FALSE
SUMMARY:Sentara Nursing Job Fair
DESCRIPTION:Attention RNs & LPNs -Experienced and New Grads\n\nSentara Halifax Regional Hospital will be hosting a Nursing Job Fair on Tuesday August 15th. We welcome RNs and LPNs to come chat with Managers about how to become a member of our team. Learn about increased RN rates and lucrative benefits ( ie. educational assistance\, paid time off\, etc.) Details online at WWW.SENTARACAREERS.COM
X-ALT-DESC;FMTTYPE=text/html:Attention RNs &amp\; LPNs -Experienced and New Grads<br />\nSentara Halifax Regional Hospital will be hosting a Nursing Job Fair on Tuesday August 15th. We welcome RNs and LPNs&nbsp\;to come chat with Managers about how to become a member of our team. Learn about increased RN rates and lucrative benefits ( ie. educational assistance\, paid time off\, etc.) Details online at WWW.SENTARACAREERS.COM&nbsp\;
LOCATION:Bistro 1888 221 Main Street South Boston\, VA
UID:e.845.7065
SEQUENCE:3
DTSTAMP:20260422T175450Z
URL:https://business.halifaxchamber.net/events/details/sentara-nursing-job-fair-7065
END:VEVENT

END:VCALENDAR
