BEGIN:VCALENDAR
VERSION:2.0
PRODID:-//ChamberMaster//Event Calendar 2.0//EN
METHOD:PUBLISH
X-PUBLISHED-TTL:P3D
REFRESH-INTERVAL:P3D
CALSCALE:GREGORIAN
BEGIN:VEVENT
DTSTART:20190629T130000Z
DTEND:20190629T130000Z
X-MICROSOFT-CDO-ALLDAYEVENT:FALSE
SUMMARY:Sentara Prepared Childbirth Class
DESCRIPTION:Moms-to-be and their birthing partners learn how to work together to have a positive birthing experience. Class includes discussion of relaxation techniques\, anesthesia\, and postpartum adjustments\, as well as a tour of the Family Birthing Center at Sentara Halifax Regional Hospital.\n\nTo register\, call 434-514-3336.
X-ALT-DESC;FMTTYPE=text/html:Moms-to-be and their birthing partners learn how to work together to have a positive birthing experience. Class includes discussion of relaxation techniques\, anesthesia\, and postpartum adjustments\, as well as a tour of the Family Birthing Center at Sentara Halifax Regional Hospital.<br />\nTo register\, call 434-514-3336.
LOCATION:Sentara Halifax Regional Hospital 2204 Wilborn Avenue South Boston\, VA 24592
UID:e.845.13209
SEQUENCE:3
DTSTAMP:20260421T044005Z
URL:https://business.halifaxchamber.net/events/details/sentara-prepared-childbirth-class-13209
END:VEVENT

END:VCALENDAR
