BEGIN:VCALENDAR
VERSION:2.0
PRODID:-//ChamberMaster//Event Calendar 2.0//EN
METHOD:PUBLISH
X-PUBLISHED-TTL:P3D
REFRESH-INTERVAL:P3D
CALSCALE:GREGORIAN
BEGIN:VEVENT
DTSTART:20201118T150000Z
DTEND:20201118T180000Z
X-MICROSOFT-CDO-ALLDAYEVENT:FALSE
SUMMARY:Sentara Virtual Job Fair for Experienced RNs
DESCRIPTION:Registered Nurses with at least 1 year of nursing experience are invited to a virtual hiring event.\n\nRecruiters will be ready to chat with you about job openings and answer any questions you may have.\n\nTo register for this event go to http://www.sentaracareers.com/events
X-ALT-DESC;FMTTYPE=text/html:Registered Nurses with at least 1 year of nursing experience are invited to a virtual hiring event.<br />\nRecruiters will be ready to chat with you about job openings and answer any questions you may have.<br />\nTo register for this event go to&nbsp\;<a href="http://www.sentaracareers.com/events">http://www.sentaracareers.com/events</a>
LOCATION:Virtual
UID:e.845.17811
SEQUENCE:3
DTSTAMP:20260419T234529Z
URL:https://business.halifaxchamber.net/events/details/sentara-virtual-job-fair-for-experienced-rns-17811
END:VEVENT

END:VCALENDAR
