BEGIN:VCALENDAR
VERSION:2.0
PRODID:-//ChamberMaster//Event Calendar 2.0//EN
METHOD:PUBLISH
X-PUBLISHED-TTL:P3D
REFRESH-INTERVAL:P3D
CALSCALE:GREGORIAN
BEGIN:VEVENT
DTSTART:20170921T160000Z
DTEND:20170921T210000Z
X-MICROSOFT-CDO-ALLDAYEVENT:FALSE
SUMMARY:Sentara Woodview Job Fair
DESCRIPTION:Sentara Woodview is holding a job fair Thursday\, September 21st from Noon - 5PM. \n\n\n\nHiring for:\n\nRegistered Nurses\n\nLicensed Practical Nurses\n\nCertified Nurse Assistant\n\nEnvironmental Services Tech\n\nFood Service Worker\n\n\n\nSign on Bonus to those that qualify!
X-ALT-DESC;FMTTYPE=text/html:Sentara Woodview&nbsp\;is holding a job fair Thursday\, September 21st from Noon - 5PM.&nbsp\;<br />\n<br />\nHiring for:<br />\nRegistered Nurses<br />\nLicensed Practical&nbsp\;Nurses<br />\nCertified Nurse Assistant<br />\nEnvironmental Services Tech<br />\nFood Service Worker<br />\n<br />\nSign on Bonus to those that qualify!
LOCATION:Sentara Woodview 103 Rosehill Drive South Boston\, VA
UID:e.845.7095
SEQUENCE:3
DTSTAMP:20260422T154932Z
URL:https://business.halifaxchamber.net/events/details/sentara-woodview-job-fair-7095
END:VEVENT

END:VCALENDAR
