BEGIN:VCALENDAR
VERSION:2.0
PRODID:-//ChamberMaster//Event Calendar 2.0//EN
METHOD:PUBLISH
X-PUBLISHED-TTL:P3D
REFRESH-INTERVAL:P3D
CALSCALE:GREGORIAN
BEGIN:VEVENT
DTSTART:20190307T163000Z
DTEND:20190307T180000Z
X-MICROSOFT-CDO-ALLDAYEVENT:FALSE
SUMMARY:Sentra Halifax Regional Colon Cancer Awareness Lunch & Learn
DESCRIPTION:oin us for a Colon Cancer Awareness Lunch & Learn on Thursday\, March 7 at 11:30 a.m. at the Prizery in downtown South Boston. Learn about prevention\, diagnosis\, and treatment of colon cancer from gastroenterologist Suresh Jayatilaka\, M.D.. Attendance is free but space is limited. Registration is required at 434-517-3538.
X-ALT-DESC;FMTTYPE=text/html:<span style="caret-color: rgb(29\, 33\, 41)\; color: rgb(29\, 33\, 41)\; font-family: system-ui\, -apple-system\, BlinkMacSystemFont\, &quot\;.SFNSText-Regular&quot\;\, sans-serif\; font-size: 14px\; background-color: rgb(255\, 255\, 255)\;">oin us for a Colon Cancer Awareness Lunch &amp\; Learn on Thursday\, March 7 at 11:30 a.m. at the Prizery in downtown South Boston. Learn about prevention\, diagnosis\, and treatment of colon cancer from gastroenterologist Suresh Jayatilaka\, M.D.. Attendance is free but space is limited. Registration is required at 434-517-3538.</span>
LOCATION:The Prizery South Boston\, VA
UID:e.845.12026
SEQUENCE:3
DTSTAMP:20260421T094038Z
URL:https://business.halifaxchamber.net/events/details/sentra-halifax-regional-colon-cancer-awareness-lunch-learn-12026
END:VEVENT

END:VCALENDAR
