BEGIN:VCALENDAR
VERSION:2.0
PRODID:-//ChamberMaster//Event Calendar 2.0//EN
METHOD:PUBLISH
X-PUBLISHED-TTL:P3D
REFRESH-INTERVAL:P3D
CALSCALE:GREGORIAN
BEGIN:VEVENT
DTSTART:20190531T110000Z
DTEND:20190531T210000Z
X-MICROSOFT-CDO-ALLDAYEVENT:FALSE
SUMMARY:Serve The Soldiers with Southern States of South Boston!
DESCRIPTION:You're Invited!\n\n15% off storewide!\n\nFish Plates - Includes Slaw\, Fries\, Hushpuppies.. $7.00\n\nFish Sandwich.. $3.50\n\nAll proceeds go to Halifax County VFW\n\nAll Veterans Eat-In Free!\n\nRegister to win Broil King Gas Grill!
X-ALT-DESC;FMTTYPE=text/html:<span style="font-size:16px\;">You&#39\;re Invited!</span><br />\n15% off storewide!<br />\nFish Plates - Includes Slaw\, Fries\, Hushpuppies.. $7.00<br />\nFish Sandwich.. $3.50<br />\n<u>All proceeds go to Halifax County VFW</u><br />\n<strong>All Veterans Eat-In Free!</strong><br />\nRegister to win Broil King Gas Grill!
LOCATION:Southern States of South Boston 1067 Philpott Road South Boston\, VA 24592
UID:e.845.13153
SEQUENCE:3
DTSTAMP:20260421T063135Z
URL:https://business.halifaxchamber.net/events/details/serve-the-soldiers-with-southern-states-of-south-boston-13153
END:VEVENT

END:VCALENDAR
