BEGIN:VCALENDAR
VERSION:2.0
PRODID:-//ChamberMaster//Event Calendar 2.0//EN
METHOD:PUBLISH
X-PUBLISHED-TTL:P3D
REFRESH-INTERVAL:P3D
CALSCALE:GREGORIAN
BEGIN:VEVENT
DTSTART:20190224T200000Z
DTEND:20190224T220000Z
X-MICROSOFT-CDO-ALLDAYEVENT:FALSE
SUMMARY:Seussical The Musical 2/24
DESCRIPTION:The characters of Dr. Seuss' favorite stories get together with new musical numbers to enhance their stories. It's a mixed-up evening of songs and dance to entertain the whole family. See what the Cat in the Hat has planned for Horton\, the Whos\, and the rest of the folks from the Jungle of Nool. It's the finest kind of family fun!
X-ALT-DESC;FMTTYPE=text/html:<span style="caret-color: rgb(51\, 51\, 51)\; color: rgb(51\, 51\, 51)\; font-family: Helvetica\, Arial\, sans-serif\; font-size: 15px\; background-color: rgba(245\, 240\, 236\, 0.498039)\;">The characters of Dr. Seuss&rsquo\; favorite stories get together with new musical numbers to enhance their stories. It&rsquo\;s a mixed-up evening of songs and dance to entertain the whole family. See what the Cat in the Hat has planned for Horton\, the Whos\, and the rest of the folks from the Jungle of Nool. It&rsquo\;s the finest kind of family fun!</span>
LOCATION:The Prizery South Boston\, VA
UID:e.845.8824
SEQUENCE:3
DTSTAMP:20260421T122323Z
URL:https://business.halifaxchamber.net/events/details/seussical-the-musical-8824
END:VEVENT

END:VCALENDAR
