BEGIN:VCALENDAR
VERSION:2.0
PRODID:-//ChamberMaster//Event Calendar 2.0//EN
METHOD:PUBLISH
X-PUBLISHED-TTL:P3D
REFRESH-INTERVAL:P3D
CALSCALE:GREGORIAN
BEGIN:VEVENT
DTSTART:20200513T150000Z
DTEND:20200513T160000Z
X-MICROSOFT-CDO-ALLDAYEVENT:FALSE
SUMMARY:Shifting to Online Sales
DESCRIPTION:We're seeing large brick-and-mortar retailers frantically trying to figure out how to stay alive. The lockdown has made e-commerce more vital than ever in sustaining sales during an uncertain economic period.\n\n\n\nToday\, consumers don't want to wait over a month to get orders on Amazon\, nor do they want to go to a brick-and-mortar store\, especially with lines out the door. This brings new opportunities to small businesses to capture new markets for sales growth.\n\n\n\nVirginia Community Capital has partnered with Taking Stock Project Management to present a webinar focused on helping businesses review and evaluate various online sales options\, how to setup and evaluate costs to operate\, security\, and how to cross promote.
X-ALT-DESC;FMTTYPE=text/html:<span style="color: rgb(35\, 35\, 51)\; font-family: Lato\, Helvetica\, Arial\; font-size: 14px\;">We&rsquo\;re seeing large brick-and-mortar retailers frantically trying to figure out how to stay alive. The lockdown has made e-commerce more vital than ever in sustaining sales during an uncertain economic period.</span><br style="box-sizing: border-box\; color: rgb(35\, 35\, 51)\; font-family: Lato\, Helvetica\, Arial\; font-size: 14px\;" />\n<br style="box-sizing: border-box\; color: rgb(35\, 35\, 51)\; font-family: Lato\, Helvetica\, Arial\; font-size: 14px\;" />\n<span style="color: rgb(35\, 35\, 51)\; font-family: Lato\, Helvetica\, Arial\; font-size: 14px\;">Today\, consumers don&rsquo\;t want to wait over a month to get orders on Amazon\, nor do they want to go to a brick-and-mortar store\, especially with lines out the door. This brings new opportunities to small businesses to capture new markets for sales growth.</span><br style="box-sizing: border-box\; color: rgb(35\, 35\, 51)\; font-family: Lato\, Helvetica\, Arial\; font-size: 14px\;" />\n<br style="box-sizing: border-box\; color: rgb(35\, 35\, 51)\; font-family: Lato\, Helvetica\, Arial\; font-size: 14px\;" />\n<span style="color: rgb(35\, 35\, 51)\; font-family: Lato\, Helvetica\, Arial\; font-size: 14px\;">Virginia Community Capital has partnered with Taking Stock Project Management to present a webinar focused on helping businesses review and evaluate various online sales options\, how to setup and evaluate costs to operate\, security\, and how to cross promote.</span>
LOCATION:Register at: https://zoom.us/webinar/register/WN_3FWAmcIrRTW5H1wR6YaU7Q
UID:e.845.17593
SEQUENCE:3
DTSTAMP:20260420T100116Z
URL:https://business.halifaxchamber.net/events/details/shifting-to-online-sales-17593
END:VEVENT

END:VCALENDAR
