BEGIN:VCALENDAR
VERSION:2.0
PRODID:-//ChamberMaster//Event Calendar 2.0//EN
METHOD:PUBLISH
X-PUBLISHED-TTL:P3D
REFRESH-INTERVAL:P3D
CALSCALE:GREGORIAN
BEGIN:VEVENT
DTSTART;VALUE=DATE:20181124
DTEND;VALUE=DATE:20181125
TRANSP:TRANSPARENT
X-MICROSOFT-CDO-ALLDAYEVENT:TRUE
SUMMARY:# ShopSmall With Us
DESCRIPTION:#SHOPSMALL WITH US\n\nCome out and support your local businesses!!\n\n#shopsamallhalif\,#shopsmallsobo\n\n\n\nFor every $20 spent at participating businesses. get entered to win a grand prize basket with gifts from many local shops!
X-ALT-DESC;FMTTYPE=text/html:<strong>#SHOPSMALL WITH US</strong><br />\nCome out and support your local businesses!!<br />\n<strong>#shopsamallhalif</strong>\,<strong>#shopsmallsobo</strong><br />\n<br />\nFor every $20 spent at participating businesses. get entered to win a grand prize basket with gifts from many local shops!&nbsp\;<br />\n&nbsp\;
LOCATION:Visit the Welcome Centers! Town of Halifax Farmers' Market 9 AM - 3 PM Divine Decor & More in Downtown South Boston 10 AM- 3 PM
UID:e.845.8559
SEQUENCE:3
DTSTAMP:20260421T171104Z
URL:https://business.halifaxchamber.net/events/details/shop-small-with-us-8559
END:VEVENT

END:VCALENDAR
