BEGIN:VCALENDAR
VERSION:2.0
PRODID:-//ChamberMaster//Event Calendar 2.0//EN
METHOD:PUBLISH
X-PUBLISHED-TTL:P3D
REFRESH-INTERVAL:P3D
CALSCALE:GREGORIAN
BEGIN:VEVENT
DTSTART:20170511T140000Z
DTEND:20170511T160000Z
X-MICROSOFT-CDO-ALLDAYEVENT:FALSE
SUMMARY:Shred Day at URW
DESCRIPTION:Take your outdated and unwanted documents to the URW Community Federal Credit Union to have them shredded for free!
X-ALT-DESC;FMTTYPE=text/html:Take your outdated and unwanted documents to the URW Community Federal Credit Union to have them shredded for free!&nbsp\;
LOCATION:URW Community Federal Credit Union 4018 Halifax Road South Boston\, VA
UID:e.845.5910
SEQUENCE:3
DTSTAMP:20260422T231626Z
URL:https://business.halifaxchamber.net/events/details/shred-day-at-urw-5910
END:VEVENT

END:VCALENDAR
