BEGIN:VCALENDAR
VERSION:2.0
PRODID:-//ChamberMaster//Event Calendar 2.0//EN
METHOD:PUBLISH
X-PUBLISHED-TTL:P3D
REFRESH-INTERVAL:P3D
CALSCALE:GREGORIAN
BEGIN:VEVENT
DTSTART:20170603T170000Z
DTEND:20170604T000000Z
X-MICROSOFT-CDO-ALLDAYEVENT:FALSE
SUMMARY:Shuck & Suck Oyster Saturdays
DESCRIPTION:What could be better than Oysters\, Beer and Wine? Join Staunton River Brewing Co. for Rappahannock River Oysters on the Half Shell (grilled or raw while supplies last) fresh from Rappahonnack River Oysters\, LLC\, cooked to perfection. \n\n\n\nMusic by Chris Fisher beginning at 3:00 PM. \n\n\n\n$12/half dozen\n\n$22/dozen\n\nWhile Supplies Last
X-ALT-DESC;FMTTYPE=text/html:What could be better than Oysters\, Beer and Wine? Join Staunton River Brewing Co. for Rappahannock River Oysters on the Half Shell (grilled or raw while supplies last) fresh from Rappahonnack River Oysters\, LLC\, cooked to perfection.&nbsp\;<br />\n<br />\nMusic by Chris Fisher beginning at 3:00 PM.&nbsp\;<br />\n<br />\n$12/half dozen<br />\n$22/dozen<br />\nWhile Supplies Last&nbsp\;
LOCATION:Staunton River Brewing Co. 1571 Mount Calvary Road Brookneal\, VA
UID:e.845.5948
SEQUENCE:3
DTSTAMP:20260423T004533Z
URL:https://business.halifaxchamber.net/events/details/shuck-suck-oyster-saturdays-5948
END:VEVENT

END:VCALENDAR
