BEGIN:VCALENDAR
VERSION:2.0
PRODID:-//ChamberMaster//Event Calendar 2.0//EN
METHOD:PUBLISH
X-PUBLISHED-TTL:P3D
REFRESH-INTERVAL:P3D
CALSCALE:GREGORIAN
BEGIN:VEVENT
DTSTART:20181010T160000Z
DTEND:20181010T170000Z
X-MICROSOFT-CDO-ALLDAYEVENT:FALSE
SUMMARY:Signs That It's Time Hosted by Commonwealth Senior Living
DESCRIPTION:Planning for retirement is very similar to choosing the right college. It should be an exciting opportunity to plan your next chapter. We'll discuss how to recognize signs that it may be time to start thinking about senior living as well as things to consider for finding the right fit.\n\nWhether your'e planning the next chapter for yourself or helping a loved one determine if it is time\, you'll walk away with a better understanding of your options.\n\n\n\nRSVP at least two days prior to the event\; 434-575-5400
X-ALT-DESC;FMTTYPE=text/html:Planning for retirement is very similar to choosing the right college. It should be an exciting opportunity to plan your next chapter. We&#39\;ll discuss how to recognize signs that it may be time to start thinking about senior living as well as things to consider for finding the right fit.<br />\nWhether your&#39\;e planning the next chapter for yourself or helping a loved one determine if it is time\, you&#39\;ll walk away with a better understanding of your options.<br />\n<br />\nRSVP at least two days prior to the event\; 434-575-5400
LOCATION:Beth Carr Baptist Church 25 Church Street Haifax\, VA 24558
UID:e.845.8524
SEQUENCE:3
DTSTAMP:20260421T171616Z
URL:https://business.halifaxchamber.net/events/details/signs-that-it-s-time-hosted-by-commonwealth-senior-living-8524
END:VEVENT

END:VCALENDAR
