BEGIN:VCALENDAR
VERSION:2.0
PRODID:-//ChamberMaster//Event Calendar 2.0//EN
METHOD:PUBLISH
X-PUBLISHED-TTL:P3D
REFRESH-INTERVAL:P3D
CALSCALE:GREGORIAN
BEGIN:VEVENT
DTSTART:20190130T150000Z
DTEND:20190130T200000Z
X-MICROSOFT-CDO-ALLDAYEVENT:FALSE
SUMMARY:SignUpNow Medicaid Enrollment Training Opportunity
DESCRIPTION:p.p1 {margin: 0.0px 0.0px 0.0px 0.0px\; font: 12.0px Calibri}\nspan.s1 {font-kerning: none\; background-color: #fffb01}\nspan.s2 {font-kerning: none}\n\nThere will be a SignUpNow Medicaid Enrollment training opportunity TOMORROW\, January 30\, from 10am   3pm at the SVHEC. This training opportunity will help professionals in our community understand the Medicaid enrollment process\, enabling them to help their newly elligible patients or customers with the process.
X-ALT-DESC;FMTTYPE=text/html:<style type="text/css">p.p1 {margin: 0.0px 0.0px 0.0px 0.0px\; font: 12.0px Calibri}\nspan.s1 {font-kerning: none\; background-color: #fffb01}\nspan.s2 {font-kerning: none}\n</style>\n<p class="p1"><span class="s1">There will be a SignUpNow Medicaid Enrollment training opportunity TOMORROW\, January 30\, from 10am &ndash\; 3pm at the SVHEC.</span><span class="s2"> This training opportunity will help professionals in our community understand the Medicaid enrollment process\, enabling them to help their newly elligible patients or customers with the process.&nbsp\;</span></p>\n
LOCATION:SVHEC 820 Bruce Street South Boston\, VA
UID:e.845.11986
SEQUENCE:3
DTSTAMP:20260421T140122Z
URL:https://business.halifaxchamber.net/events/details/signupnow-medicaid-enrollment-training-opportunity-11986
END:VEVENT

END:VCALENDAR
