BEGIN:VCALENDAR
VERSION:2.0
PRODID:-//ChamberMaster//Event Calendar 2.0//EN
METHOD:PUBLISH
X-PUBLISHED-TTL:P3D
REFRESH-INTERVAL:P3D
CALSCALE:GREGORIAN
BEGIN:VEVENT
DTSTART:20170322T220000Z
DTEND:20170323T010000Z
X-MICROSOFT-CDO-ALLDAYEVENT:FALSE
SUMMARY:Sip + Create + Shop
DESCRIPTION:Shopping Fun\, wine and creative time. \n\n\n\nEveryone can create and personalize their own original Lively Spring Chicken.\n\n\n\nThis fun night is limited to the first 15 people to register.
X-ALT-DESC;FMTTYPE=text/html:Shopping Fun\, wine and creative time.&nbsp\;<br />\n<br />\nEveryone can create and personalize their own original Lively Spring Chicken.<br />\n<br />\nThis fun night is limited to the first 15 people to register.<br />\n<br />\n<br />\n<br />\n&nbsp\;
LOCATION:Town of Halifax Farmer's Market 209 S. Main Street Halifax\, VA
UID:e.845.5830
SEQUENCE:3
DTSTAMP:20260424T131325Z
URL:https://business.halifaxchamber.net/events/details/sip-create-shop-5830
END:VEVENT

END:VCALENDAR
