BEGIN:VCALENDAR
VERSION:2.0
PRODID:-//ChamberMaster//Event Calendar 2.0//EN
METHOD:PUBLISH
X-PUBLISHED-TTL:P3D
REFRESH-INTERVAL:P3D
CALSCALE:GREGORIAN
BEGIN:VEVENT
DTSTART:20190809T220000Z
DTEND:20190810T003000Z
X-MICROSOFT-CDO-ALLDAYEVENT:FALSE
SUMMARY:Sip & Paint
DESCRIPTION:Join YMCA South Boston/Halifax County for Sip & Paint!\n\nRegistration is required.\n\n$10 Members\n\n$20 Non-Members\n\nCall 434-572-8909
X-ALT-DESC;FMTTYPE=text/html:Join YMCA South Boston/Halifax County for Sip &amp\; Paint!<br />\nRegistration is required.<br />\n$10 Members<br />\n$20 Non-Members<br />\nCall 434-572-8909
LOCATION:YMCA South Boston/Halifax County 650 Hamilton Blvd South Boston\, VA 24592
UID:e.845.13260
SEQUENCE:3
DTSTAMP:20260421T011847Z
URL:https://business.halifaxchamber.net/events/details/sip-paint-13260
END:VEVENT

END:VCALENDAR
