BEGIN:VCALENDAR
VERSION:2.0
PRODID:-//ChamberMaster//Event Calendar 2.0//EN
METHOD:PUBLISH
X-PUBLISHED-TTL:P3D
REFRESH-INTERVAL:P3D
CALSCALE:GREGORIAN
BEGIN:VEVENT
DTSTART:20191019T230000Z
DTEND:20191020T003000Z
X-MICROSOFT-CDO-ALLDAYEVENT:FALSE
SUMMARY:Sip & Paint
DESCRIPTION:During Sip & Paint Night\, an instructor will lead participants in painting their interpretation of the evening?s selected piece while enjoying drinks (non-alcoholic). The Y will provide all painting supplies\, including paint brushes\, acrylic paint\, easels\, and canvases. Must have a minimum of 4 participants for a class. Please inquire with our front desk for questions or to schedule a date. Childcare included for members if you'd like!!
X-ALT-DESC;FMTTYPE=text/html:<span style="color: rgb(29\, 33\, 41)\; font-family: system-ui\, -apple-system\, system-ui\, &quot\;.SFNSText-Regular&quot\;\, sans-serif\; font-size: 14px\; white-space: pre-wrap\;">During Sip &amp\; Paint Night\, an instructor will lead participants in painting their interpretation of the evening?s selected piece while enjoying drinks (non-alcoholic). The Y will provide all painting supplies\, including paint brushes\, acrylic paint\, easels\, and canvases. Must have a minimum of 4 participants for a class. Please inquire with our front desk for questions or to schedule a date. Childcare included for members if you&#39\;d like!!</span>
LOCATION:YMCA South Boston/Halifax County 650 Hamilton Blvd South Boston\, VA 24592
UID:e.845.14460
SEQUENCE:3
DTSTAMP:20260420T214705Z
URL:https://business.halifaxchamber.net/events/details/sip-paint-14460
END:VEVENT

END:VCALENDAR
