BEGIN:VCALENDAR
VERSION:2.0
PRODID:-//ChamberMaster//Event Calendar 2.0//EN
METHOD:PUBLISH
X-PUBLISHED-TTL:P3D
REFRESH-INTERVAL:P3D
CALSCALE:GREGORIAN
BEGIN:VEVENT
DTSTART:20210625T223000Z
DTEND:20210626T003000Z
X-MICROSOFT-CDO-ALLDAYEVENT:FALSE
SUMMARY:Sip & Paint
DESCRIPTION:Join Hunting Creek Vineyards for Sip & Paint with instruction from The Painted Palm to create your own painting.
X-ALT-DESC;FMTTYPE=text/html:Join Hunting Creek Vineyards for Sip &amp\; Paint with instruction from The Painted Palm to create your own painting.&nbsp\;
LOCATION:Hunting Creek Vineyards 2000 Addie Williams Trail Clove\, VA 24534
UID:e.845.18049
SEQUENCE:3
DTSTAMP:20260419T135634Z
URL:https://business.halifaxchamber.net/events/details/sip-paint-18049
END:VEVENT

END:VCALENDAR
