BEGIN:VCALENDAR
VERSION:2.0
PRODID:-//ChamberMaster//Event Calendar 2.0//EN
METHOD:PUBLISH
X-PUBLISHED-TTL:P3D
REFRESH-INTERVAL:P3D
CALSCALE:GREGORIAN
BEGIN:VEVENT
DTSTART:20200307T113000Z
DTEND:20200307T133000Z
X-MICROSOFT-CDO-ALLDAYEVENT:FALSE
SUMMARY:Sip & Paint (with Babysitting!)
DESCRIPTION:Relax\, sip\, and paint at the South Boston Halifax County YMCA!\n\n\n\nAdults\, whether you have children or not\, come ignite your creative spirit!  Join us for a night of painting\, fellowship\, and fun!  \n\n\n\nFor those of you with littles\, bring them too! We'll tire them out at Parent's Time Out for free!\n\n(PTO is available for members ONLY)\n\n\n\nSaturday\, March 7th\n\nPTO is from 5:30-8:30PM\n\nSip & Paint 6:30-8:30PM\n\n\n\nSip & Paint is $10 for members and $20 for non-members\n\n\n\n*ALL PARTICIPANTS MUST PRE-REGISTER\\\n\n\n\nContact Kristen Zerbato\, Excecutive Director
X-ALT-DESC;FMTTYPE=text/html:Relax\, sip\, and paint at the South Boston Halifax County YMCA!<br />\n<br />\nAdults\, whether you have children or not\, come ignite your creative spirit!&nbsp\; Join us for a night of painting\, fellowship\, and fun!&nbsp\;&nbsp\;<br />\n<br />\nFor those of you with littles\, bring them too! We&#39\;ll tire them out at Parent&#39\;s Time Out for free!<br />\n(PTO is available for members ONLY)<br />\n<br />\nSaturday\, March 7th<br />\nPTO is from 5:30-8:30PM<br />\nSip &amp\; Paint 6:30-8:30PM<br />\n<br />\nSip &amp\; Paint is $10 for members and $20 for non-members<br />\n<br />\n*ALL PARTICIPANTS MUST PRE-REGISTER\\<br />\n<br />\nContact Kristen Zerbato\, Excecutive Director
LOCATION:South Boston/Halifax County YMCA 650 Hamilton Blvd South Boston\, VA 24592
UID:e.845.17504
SEQUENCE:3
DTSTAMP:20260420T131831Z
URL:https://business.halifaxchamber.net/events/details/sip-paint-with-babysitting-17504
END:VEVENT

END:VCALENDAR
