BEGIN:VCALENDAR
VERSION:2.0
PRODID:-//ChamberMaster//Event Calendar 2.0//EN
METHOD:PUBLISH
X-PUBLISHED-TTL:P3D
REFRESH-INTERVAL:P3D
CALSCALE:GREGORIAN
BEGIN:VEVENT
DTSTART:20180614T220000Z
DTEND:20180615T000000Z
X-MICROSOFT-CDO-ALLDAYEVENT:FALSE
SUMMARY:SIP & SHOP
DESCRIPTION:Your'e invited to SIP & SHOP at Southern Frills
X-ALT-DESC;FMTTYPE=text/html:&nbsp\;Your&#39\;e invited to&nbsp\;SIP &amp\; SHOP at Southern Frills
LOCATION:Southern Frills 417 Main Street South Boston\, VA 24592
UID:e.845.8464
SEQUENCE:3
DTSTAMP:20260422T000306Z
URL:https://business.halifaxchamber.net/events/details/sip-shop-8464
END:VEVENT

END:VCALENDAR
