BEGIN:VCALENDAR
VERSION:2.0
PRODID:-//ChamberMaster//Event Calendar 2.0//EN
METHOD:PUBLISH
X-PUBLISHED-TTL:P3D
REFRESH-INTERVAL:P3D
CALSCALE:GREGORIAN
BEGIN:VEVENT
DTSTART:20191102T133000Z
DTEND:20191102T223000Z
X-MICROSOFT-CDO-ALLDAYEVENT:FALSE
SUMMARY:Sip & Shop at Eden Jewelry
DESCRIPTION:Enjoy a day of wine\, cider\, refreshments\, giveaways\, shopping & so much more! You will have the chance to win diamond stud earrings\, gift cars & a free Pandora Bracelet! \n\nSales include Alex & Ani 50% off\, Jewelpop 50% off\, all chains 25% off\, all diamond jewelry 15% off\, Kendra Scott 25% off select items\, all bridal items 20% off\, watches up to 50% off\, Bourbon & Bowties 35% off & charms 20% off.
X-ALT-DESC;FMTTYPE=text/html:Enjoy a day of wine\, cider\, refreshments\, giveaways\, shopping &amp\; so much more! You will have the chance to win diamond stud earrings\, gift cars &amp\; a free Pandora Bracelet!&nbsp\;<br />\nSales include Alex &amp\; Ani 50% off\, Jewelpop 50% off\, all chains 25% off\, all diamond jewelry 15% off\, Kendra Scott 25% off select items\, all bridal items 20% off\, watches up to 50% off\, Bourbon &amp\; Bowties 35% off &amp\; charms 20% off.
LOCATION:Eden Jewelry 3601 Old Halifax Road South Boston\, VA 24592
UID:e.845.15509
SEQUENCE:3
DTSTAMP:20260420T200215Z
URL:https://business.halifaxchamber.net/events/details/sip-shop-at-eden-jewelry-15509
END:VEVENT

END:VCALENDAR
