BEGIN:VCALENDAR
VERSION:2.0
PRODID:-//ChamberMaster//Event Calendar 2.0//EN
METHOD:PUBLISH
X-PUBLISHED-TTL:P3D
REFRESH-INTERVAL:P3D
CALSCALE:GREGORIAN
BEGIN:VEVENT
DTSTART:20170630T210000Z
DTEND:20170701T010000Z
X-MICROSOFT-CDO-ALLDAYEVENT:FALSE
SUMMARY:Sip & Shop Friday at Sweet Cee's
DESCRIPTION:Visit Sweet Cee's Shops on Main for their Sip and Show Friday\, June 30th from 5:00 - 9:00PM.  Stop by to get a an idea of what Sweet Cee's is all about.  \n\n\n\nThere will be flash sales throughout the evening.
X-ALT-DESC;FMTTYPE=text/html:Visit Sweet Cee&#39\;s&nbsp\;Shops on Main for their Sip and Show Friday\, June 30th from 5:00 - 9:00PM. &nbsp\;Stop by to get a an idea of what Sweet Cee&#39\;s is all about. &nbsp\;<br />\n<br />\nThere will be flash sales throughout the evening.
LOCATION:Sweet Cee's Shops on Main 441 Main Street South Boston\, VA
UID:e.845.6998
SEQUENCE:3
DTSTAMP:20260422T212350Z
URL:https://business.halifaxchamber.net/events/details/sip-shop-friday-at-sweet-cee-s-6998
END:VEVENT

END:VCALENDAR
