BEGIN:VCALENDAR
VERSION:2.0
PRODID:-//ChamberMaster//Event Calendar 2.0//EN
METHOD:PUBLISH
X-PUBLISHED-TTL:P3D
REFRESH-INTERVAL:P3D
CALSCALE:GREGORIAN
BEGIN:VEVENT
DTSTART:20190302T170000Z
DTEND:20190302T210000Z
X-MICROSOFT-CDO-ALLDAYEVENT:FALSE
SUMMARY:Sip & Shop My Closet at Springfield Distillery
DESCRIPTION:Join us in a collaborative Sip\, Shop\, and Save event between Wine and Weekends and Springfield Distillery!\n\n\n\nWineandWeekends.com is a Travel and Style Blog run by Katie Church\n\n\n\nDetails about this event:\n\n-Saturday\, March 2nd from 12-4pm\n\n-Come out and shop Katie and BFF Olivia's closets that are full of discounted name brand and boutique clothing. We have TONS of barely worn items.\n\n-There will be options for all sizes and ages - along with shoes\, handbags\, sunglasses\, jewelry\, accessories (you name it)!\n\n-10% of all of Katie's profits will be donated to Samaritan's purse\n\n-We will be accepting cash or instant online payment via Venmo or PayPal\n\n\n\nWhile you shop\, enjoy a tasting or cocktail from the fabulous Springfield Distillery and grab some lunch from a local favorite - Nana Karen's food truck!\n\n\n\nSpringfield will have a specialty cocktail of the day and 20% off t-shirts!\n\n\n\nIf we can get 6 people to sign up for a time slot - Mandy Turner\, of Polished by Mandy\, will be on site to do express manicures for $15. Please message me directly to claim a spot
X-ALT-DESC;FMTTYPE=text/html:<span style="background-color:rgb(255\, 255\, 255)\; color:rgb(29\, 33\, 41)\; font-family:system-ui\,-apple-system\,blinkmacsystemfont\,.sfnstext-regular\,sans-serif\; font-size:14px">Join us in a collaborative Sip\, Shop\, and Save event between Wine and Weekends and Springfield Distillery!</span><br />\n<br />\n<a href="http://wineandweekends.com/?fbclid=IwAR23FEIRit_GgbdSdnVaYNcmdzS1qBKF9kVV5WkX2BpeHIwConGAx9lTNPc" rel="nofollow noopener" style="color: rgb(54\, 88\, 153)\; cursor: pointer\; text-decoration: none\; font-family: system-ui\, -apple-system\, BlinkMacSystemFont\, &quot\;.SFNSText-Regular&quot\;\, sans-serif\; font-size: 14px\; white-space: pre-wrap\;" target="_blank">WineandWeekends.com</a><span style="background-color:rgb(255\, 255\, 255)\; color:rgb(29\, 33\, 41)\; font-family:system-ui\,-apple-system\,blinkmacsystemfont\,.sfnstext-regular\,sans-serif\; font-size:14px"> is a Travel and Style Blog run by Katie Church</span><br />\n<br />\n<span style="background-color:rgb(255\, 255\, 255)\; color:rgb(29\, 33\, 41)\; font-family:system-ui\,-apple-system\,blinkmacsystemfont\,.sfnstext-regular\,sans-serif\; font-size:14px">Details about this event:</span><br />\n<span style="background-color:rgb(255\, 255\, 255)\; color:rgb(29\, 33\, 41)\; font-family:system-ui\,-apple-system\,blinkmacsystemfont\,.sfnstext-regular\,sans-serif\; font-size:14px">-Saturday\, March 2nd from 12-4pm</span><br />\n<span style="background-color:rgb(255\, 255\, 255)\; color:rgb(29\, 33\, 41)\; font-family:system-ui\,-apple-system\,blinkmacsystemfont\,.sfnstext-regular\,sans-serif\; font-size:14px">-Come out and shop Katie and BFF Olivia&rsquo\;s closets that are full of discounted name brand and boutique clothing. We have TONS of barely worn items.</span><br />\n<span style="background-color:rgb(255\, 255\, 255)\; color:rgb(29\, 33\, 41)\; font-family:system-ui\,-apple-system\,blinkmacsystemfont\,.sfnstext-regular\,sans-serif\; font-size:14px">-There will be options for all sizes and ages - along with shoes\, handbags\, sunglasses\, jewelry\, accessories (you name it)!</span><br />\n<span style="background-color:rgb(255\, 255\, 255)\; color:rgb(29\, 33\, 41)\; font-family:system-ui\,-apple-system\,blinkmacsystemfont\,.sfnstext-regular\,sans-serif\; font-size:14px">-10% of all of Katie&rsquo\;s profits will be donated to Samaritan&rsquo\;s purse</span><br />\n<span style="background-color:rgb(255\, 255\, 255)\; color:rgb(29\, 33\, 41)\; font-family:system-ui\,-apple-system\,blinkmacsystemfont\,.sfnstext-regular\,sans-serif\; font-size:14px">-We will be accepting cash or instant online payment via Venmo or PayPal</span><br />\n<br />\n<span style="background-color:rgb(255\, 255\, 255)\; color:rgb(29\, 33\, 41)\; font-family:system-ui\,-apple-system\,blinkmacsystemfont\,.sfnstext-regular\,sans-serif\; font-size:14px">While you shop\, enjoy a tasting or cocktail from the fabulous Springfield Distillery and grab some lunch from a local favorite - Nana Karen&rsquo\;s food truck!</span><br />\n<br />\n<span style="background-color:rgb(255\, 255\, 255)\; color:rgb(29\, 33\, 41)\; font-family:system-ui\,-apple-system\,blinkmacsystemfont\,.sfnstext-regular\,sans-serif\; font-size:14px">Springfield will have a specialty cocktail of the day and 20% off t-shirts!</span><br />\n<br />\n<span style="background-color:rgb(255\, 255\, 255)\; color:rgb(29\, 33\, 41)\; font-family:system-ui\,-apple-system\,blinkmacsystemfont\,.sfnstext-regular\,sans-serif\; font-size:14px">If we can get 6 people to sign up for a time slot - Mandy Turner\, of Polished by Mandy\, will be on site to do express manicures for $15. Please message me directly to claim a spot</span>
LOCATION:Springfield Distillery
UID:e.845.12004
SEQUENCE:3
DTSTAMP:20260421T093857Z
URL:https://business.halifaxchamber.net/events/details/sip-shop-my-closet-at-springfield-distillery-12004
END:VEVENT

END:VCALENDAR
