BEGIN:VCALENDAR
VERSION:2.0
PRODID:-//ChamberMaster//Event Calendar 2.0//EN
METHOD:PUBLISH
X-PUBLISHED-TTL:P3D
REFRESH-INTERVAL:P3D
CALSCALE:GREGORIAN
BEGIN:VEVENT
DTSTART:20200118T153000Z
DTEND:20200118T163000Z
X-MICROSOFT-CDO-ALLDAYEVENT:FALSE
SUMMARY:Sip & Surrender
DESCRIPTION:Do you need to relax? Join us for this fun yoga class\, stretch the body and surrender the mind...enjoy a glass of wine included after class.
X-ALT-DESC;FMTTYPE=text/html:<span style="color:rgb(29\, 33\, 41)\; font-family:system-ui\,-apple-system\,blinkmacsystemfont\,.sfnstext-regular\,sans-serif\; font-size:14px">Do you need to relax? Join us for this fun yoga class\, stretch the body and surrender the mind...enjoy a glass of wine included after class.</span>
LOCATION:320 Virginia Avenue Clarksville\, VA 24592
UID:e.845.15633
SEQUENCE:3
DTSTAMP:20260420T165135Z
URL:https://business.halifaxchamber.net/events/details/sip-surrender-15633
END:VEVENT

END:VCALENDAR
